BEGIN:VCALENDAR
VERSION:2.0
PRODID:-//wp-events-plugin.com//7.2.3.1//EN
TZID:Europe/Helsinki
X-WR-TIMEZONE:Europe/Helsinki
BEGIN:VEVENT
UID:157@mekansa.fi
DTSTART;TZID=Europe/Helsinki:20220622T120000
DTEND;TZID=Europe/Helsinki:20220626T120000
DTSTAMP:20220524T090611Z
URL:https://mekansa.fi/tapahtumat/hyva-tasta-tuli-karnevaalit/
SUMMARY:Hyvä tästä tuli!-karnevaalit
DESCRIPTION:Hyvä tästä tuli!-karnevaalit juhannuksena 22.6. - 26.6.2022.
   Sijaintina Taivalkoskella\, Pohjois-Pohjanmaalla kyläkoululla. Lavalla 
 mm. Sielune\, Mikko Tähti ja DJ:nä Eliphaz Valorawella. Tervetuloa mukaa
 n. Ilmoittaudu tapahtumaan etukäteen.
ATTACH;FMTTYPE=image/jpeg:https://mekansa.fi/wp-content/uploads/2022/04/hy
 va-tasta-tuli-mainos.jpeg
CATEGORIES:Kajaani
LOCATION:Pohjois-Pohjanmaa\, Kyläkoulu\, Taivalkoski\, Suomi
X-APPLE-STRUCTURED-LOCATION;VALUE=URI;X-ADDRESS=Kyläkoulu\, Taivalkoski\, 
 Suomi;X-APPLE-RADIUS=100;X-TITLE=Pohjois-Pohjanmaa:geo:0,0
END:VEVENT
BEGIN:VTIMEZONE
TZID:Europe/Helsinki
X-LIC-LOCATION:Europe/Helsinki
BEGIN:DAYLIGHT
DTSTART:20220327T040000
TZOFFSETFROM:+0200
TZOFFSETTO:+0300
TZNAME:EEST
END:DAYLIGHT
END:VTIMEZONE
END:VCALENDAR