BEGIN:VCALENDAR
VERSION:2.0
PRODID:-//wp-events-plugin.com//7.2.3.1//EN
TZID:Europe/Helsinki
X-WR-TIMEZONE:Europe/Helsinki
BEGIN:VEVENT
UID:345@mekansa.fi
DTSTART;TZID=Europe/Helsinki:20230415T120000
DTEND;TZID=Europe/Helsinki:20230415T180000
DTSTAMP:20230412T174849Z
URL:https://mekansa.fi/tapahtumat/luento-ja-keskustelutilaisuus/
SUMMARY:Luento- ja keskustelutilaisuus
DESCRIPTION:Me Kansa luento- ja keskustelutilaisuus Vantaalla 15.4.2023. 
ATTACH;FMTTYPE=image/jpeg:https://mekansa.fi/wp-content/uploads/2023/03/Ta
 pahtumailmoitus-la-15.4.2023-5-1.jpg
CATEGORIES:Helsinki,Hyvinkää,Kotka,prioriteetti,Uusimaa,Vantaa
END:VEVENT
BEGIN:VTIMEZONE
TZID:Europe/Helsinki
X-LIC-LOCATION:Europe/Helsinki
BEGIN:DAYLIGHT
DTSTART:20230326T040000
TZOFFSETFROM:+0200
TZOFFSETTO:+0300
TZNAME:EEST
END:DAYLIGHT
END:VTIMEZONE
END:VCALENDAR