BEGIN:VCALENDAR
VERSION:2.0
PRODID:-//wp-events-plugin.com//7.2.3.1//EN
TZID:Europe/Helsinki
X-WR-TIMEZONE:Europe/Helsinki
BEGIN:VEVENT
UID:8@mekansa.fi
DTSTART;TZID=Europe/Helsinki:20211109T100000
DTEND;TZID=Europe/Helsinki:20211109T120000
DTSTAMP:20211106T163555Z
URL:https://mekansa.fi/tapahtumat/me-kansa-hyvinkaa-tapaaminen-2/
SUMMARY:Me Kansa Hyvinkää -tapaaminen
DESCRIPTION:Me Kansa Hyvinkää -tapaaminen. \nPaikka: Robert`s Coffee\, ka
 uppakeskus Willa\, keskusaukio\, katutaso.\nLisätietoja: hyvinkaa@mekansa
 .fi
ATTACH;FMTTYPE=image/jpeg:https://mekansa.fi/wp-content/uploads/2021/10/me
 kansa-tapaaminen.jpg
CATEGORIES:Hyvinkää
LOCATION:Roberts Cafe Hyvinkää\, Torikatu 7\, Hyvinkää\, Suomi
X-APPLE-STRUCTURED-LOCATION;VALUE=URI;X-ADDRESS=Torikatu 7\, Hyvinkää\, S
 uomi;X-APPLE-RADIUS=100;X-TITLE=Roberts Cafe Hyvinkää:geo:0,0
END:VEVENT
BEGIN:VTIMEZONE
TZID:Europe/Helsinki
X-LIC-LOCATION:Europe/Helsinki
BEGIN:STANDARD
DTSTART:20211031T030000
TZOFFSETFROM:+0300
TZOFFSETTO:+0200
TZNAME:EET
END:STANDARD
END:VTIMEZONE
END:VCALENDAR