BEGIN:VCALENDAR
VERSION:2.0
PRODID:-//wp-events-plugin.com//7.2.3.1//EN
TZID:Europe/Helsinki
X-WR-TIMEZONE:Europe/Helsinki
BEGIN:VEVENT
UID:280@mekansa.fi
DTSTART;TZID=Europe/Helsinki:20221118T180000
DTEND;TZID=Europe/Helsinki:20221118T220000
DTSTAMP:20221110T230809Z
URL:https://mekansa.fi/tapahtumat/me-kansa-hyvinkaan-pikkujoulut/
SUMMARY:ME KANSA - Hyvinkään pikkujoulut
DESCRIPTION:ME KANSA - HYVINKÄÄ PIKKUJOULUT\n\nTapahtumaan on ilmoittautu
 nut mm. Jukka ja Hanna Davidsson\n\nPerjantaina 18.11.2022 klo 18 - 22 \n
 \nCorner Cafè\, alakerta\, Kauppalankatu 2\, 05800 Hyvinkää\n\nMENU\n\n
 Pitkään haudutettua porsaan kassleria barbequekastikkeella ja juustoperu
 noita / Uunilohta smetana-tillikastikkeella ja keitettyjä perunoita / Kas
 viskiusausta\n\nSalaattia ja leipää\n\nRuokajuomat eivät sisällä alko
 holia\n\nGlögi / kahvi / tee ja joulutorttu\n\nLIPPU\n\nTiedustele: 35 
 € / lippu\n\nhyvinkaa@mekansa.fi\n\nSIJAINTI\n\nRavintola sijaitsee kaup
 ungin keskustassa Kauppakeskus Willan vieressä. Lähetämme ilmoittautune
 ille kutsukirjeen saapumisohjeineen lähempänä ajankohtaa.\n\nHUOM!\n\nP
 aikkoja rajoitetusti.\n\nLipun ostettuaan emme ota vastaan peruutuksia. Vo
 it myydä lippusi toiselle osallistujalle\, ilmoitathan lipun ostaneen yht
 eystiedot alla olevaan osoitteeseen. \n\nPidätämme oikeudet muutoksiin.
 \n\nLISÄTIETOJA\n\nhyvinkaa@mekansa.fi
ATTACH;FMTTYPE=image/jpeg:https://mekansa.fi/wp-content/uploads/2022/10/Ko
 pio-Me-Kansa-tapahtumat-26.jpg
LOCATION:Corner Cafè\, Kauppalankatu 2\, Hyvinkää\, Suomi\, 05800\, Uusi
 maa \, Suomi
X-APPLE-STRUCTURED-LOCATION;VALUE=URI;X-ADDRESS=Kauppalankatu 2\, Hyvinkä
 ä\, Suomi\, 05800\, Uusimaa \, Suomi;X-APPLE-RADIUS=100;X-TITLE=Corner Ca
 fè:geo:0,0
END:VEVENT
BEGIN:VTIMEZONE
TZID:Europe/Helsinki
X-LIC-LOCATION:Europe/Helsinki
BEGIN:STANDARD
DTSTART:20221030T030000
TZOFFSETFROM:+0300
TZOFFSETTO:+0200
TZNAME:EET
END:STANDARD
END:VTIMEZONE
END:VCALENDAR