BEGIN:VCALENDAR
VERSION:2.0
PRODID:-//wp-events-plugin.com//7.2.3.1//EN
TZID:Europe/Helsinki
X-WR-TIMEZONE:Europe/Helsinki
BEGIN:VEVENT
UID:363@mekansa.fi
DTSTART;TZID=Europe/Helsinki:20230325T120000
DTEND;TZID=Europe/Helsinki:20230325T160000
DTSTAMP:20230319T144017Z
URL:https://mekansa.fi/tapahtumat/me-kansa-iisalmen-seutu-3/
SUMMARY:ME KANSA - Iisalmen seutu
DESCRIPTION:Tervetuloa taas läheltä ja kaukaa tuttuun paikkaan\, tämän\
 n\nosavaltion ja maailman menoa ruotimaan\, sitähän riittää...\n\nOmak
 ustanteinen lounas tai jotakin muuta hyvää\, niin\n\neivät tilavuokraak
 aan sen ihmeemmin ala perimään.\n\nUunituoreita ME KANSA-käyntikortteja
  myös tarjolla.\n\nJukka tulee etäyhteydellä mukaan.\n\nLauantaina 25.3
  nähdään.\n\n&nbsp\;
ATTACH;FMTTYPE=image/jpeg:https://mekansa.fi/wp-content/uploads/2023/03/ME
 KANSAlogouusi-2.png
LOCATION:Kahvila-Ravintola Iltalypsy\, Kilpivirrantie 3\, Iisalmi\, 74120\,
  Suomi
X-APPLE-STRUCTURED-LOCATION;VALUE=URI;X-ADDRESS=Kilpivirrantie 3\, Iisalmi\
 , 74120\, Suomi;X-APPLE-RADIUS=100;X-TITLE=Kahvila-Ravintola Iltalypsy:geo
 :0,0
END:VEVENT
BEGIN:VTIMEZONE
TZID:Europe/Helsinki
X-LIC-LOCATION:Europe/Helsinki
BEGIN:STANDARD
DTSTART:20221030T030000
TZOFFSETFROM:+0300
TZOFFSETTO:+0200
TZNAME:EET
END:STANDARD
END:VTIMEZONE
END:VCALENDAR