BEGIN:VCALENDAR
VERSION:2.0
PRODID:-//wp-events-plugin.com//7.2.3.1//EN
TZID:Europe/Helsinki
X-WR-TIMEZONE:Europe/Helsinki
BEGIN:VEVENT
UID:6@mekansa.fi
DTSTART;TZID=Europe/Helsinki:20211106T120000
DTEND;TZID=Europe/Helsinki:20211106T200000
DTSTAMP:20211027T070237Z
URL:https://mekansa.fi/tapahtumat/me-kansa-kempele/
SUMMARY:Me Kansa Kempele
DESCRIPTION:Tunnetta ja infosotaa -tapahtuma Kempeleessä 6.11.2021 klo 12 
 - 20.  Tapahtuman järjestää Me Kansa sekä Puolustetaan Vapautta
ATTACH;FMTTYPE=image/jpeg:https://mekansa.fi/wp-content/uploads/2021/10/Ke
 mpele.kuntakilpi.jpg
CATEGORIES:Kempele
LOCATION:Kempele yleinen (varmista tarkempi osoite)\, Kempeleentie 1\, Kemp
 ele\, Suomi
X-APPLE-STRUCTURED-LOCATION;VALUE=URI;X-ADDRESS=Kempeleentie 1\, Kempele\, 
 Suomi;X-APPLE-RADIUS=100;X-TITLE=Kempele yleinen (varmista tarkempi osoite
 ):geo:0,0
END:VEVENT
BEGIN:VTIMEZONE
TZID:Europe/Helsinki
X-LIC-LOCATION:Europe/Helsinki
BEGIN:STANDARD
DTSTART:20211031T030000
TZOFFSETFROM:+0300
TZOFFSETTO:+0200
TZNAME:EET
END:STANDARD
END:VTIMEZONE
END:VCALENDAR