BEGIN:VCALENDAR
VERSION:2.0
PRODID:-//wp-events-plugin.com//7.2.3.1//EN
TZID:Europe/Helsinki
X-WR-TIMEZONE:Europe/Helsinki
BEGIN:VEVENT
UID:376@mekansa.fi
DTSTART;TZID=Europe/Helsinki:20230617T130000
DTEND;TZID=Europe/Helsinki:20230617T160000
DTSTAMP:20230528T073031Z
URL:https://mekansa.fi/tapahtumat/me-kansa-pori-tilaisuus-17-6/
SUMMARY:Me Kansa Pori tilaisuus 17.6.  Kusessa ollaan -  toivoa on
DESCRIPTION:Me Kansa Pori tilaisuus 17.6.2023 Kusessa ollaan -  toivoa on. 
  Suomi on saatettu poliittisen mahdin voimalla pahimpaan mahdolliseen ahdi
 nkoon. Jukka Davidsson on lupautunut pitämään esityksen tilanteesta Me 
 Kansa Porin pyynnöstä.
ATTACH;FMTTYPE=image/jpeg:https://mekansa.fi/wp-content/uploads/2023/05/Me
 -Kansa-Pori-170623.jpeg
CATEGORIES:Pori,prioriteetti
LOCATION:Pori yleinen\, ilmoitetaan myöhemmin\, Pori\, Suomi
X-APPLE-STRUCTURED-LOCATION;VALUE=URI;X-ADDRESS=ilmoitetaan myöhemmin\, Po
 ri\, Suomi;X-APPLE-RADIUS=100;X-TITLE=Pori yleinen:geo:0,0
END:VEVENT
BEGIN:VTIMEZONE
TZID:Europe/Helsinki
X-LIC-LOCATION:Europe/Helsinki
BEGIN:DAYLIGHT
DTSTART:20230326T040000
TZOFFSETFROM:+0200
TZOFFSETTO:+0300
TZNAME:EEST
END:DAYLIGHT
END:VTIMEZONE
END:VCALENDAR