BEGIN:VCALENDAR
VERSION:2.0
PRODID:-//wp-events-plugin.com//7.2.3.1//EN
TZID:Europe/Helsinki
X-WR-TIMEZONE:Europe/Helsinki
BEGIN:VEVENT
UID:499@mekansa.fi
DTSTART;TZID=Europe/Helsinki:20260422T180000
DTEND;TZID=Europe/Helsinki:20260422T193000
DTSTAMP:20260308T091146Z
URL:https://mekansa.fi/tapahtumat/me-kansa-studio-3-2026-03-11-2026-03-25-
 2026-04-08-2026-04-22/
SUMMARY:Me Kansa Studio
DESCRIPTION:Me Kansa Studio joka toinen keskiviikko Youtube kanavalla klo 1
 8 - 19:30. Tervetuloa mukaan linjoille.
ATTACH;FMTTYPE=image/jpeg:https://mekansa.fi/wp-content/uploads/2024/05/Me
 -Kansa-Studio-pohja-1080-x-500-px.jpg
CATEGORIES:verkossa
LOCATION:https://www.youtube.com/@mekansa/streams
END:VEVENT
BEGIN:VTIMEZONE
TZID:Europe/Helsinki
X-LIC-LOCATION:Europe/Helsinki
BEGIN:DAYLIGHT
DTSTART:20260329T040000
TZOFFSETFROM:+0200
TZOFFSETTO:+0300
TZNAME:EEST
END:DAYLIGHT
END:VTIMEZONE
END:VCALENDAR