BEGIN:VCALENDAR
VERSION:2.0
PRODID:-//wp-events-plugin.com//7.2.3.1//EN
TZID:Europe/Helsinki
X-WR-TIMEZONE:Europe/Helsinki
BEGIN:VEVENT
UID:395@mekansa.fi
DTSTART;TZID=Europe/Helsinki:20240312T180000
DTEND;TZID=Europe/Helsinki:20240312T193000
DTSTAMP:20240311T132911Z
URL:https://mekansa.fi/tapahtumat/me-kansa-studio-3/
SUMMARY:Me Kansa Studio
DESCRIPTION:Me Kansa Studio lähetys tiistaina 12.3.2024 klo 18:00 alkaen. 
 Voit lähettää kysymyksesi Jukalle etukäteen. Nähdään ja kuullaan ka
 navalla tiistaina!
ATTACH;FMTTYPE=image/jpeg:https://mekansa.fi/wp-content/uploads/2024/02/me
 -kansa-studio-tiistaina.jpg
CATEGORIES:verkossa
LOCATION:https://www.youtube.com/watch?v=iFXUpUtm_Zc
END:VEVENT
BEGIN:VTIMEZONE
TZID:Europe/Helsinki
X-LIC-LOCATION:Europe/Helsinki
BEGIN:STANDARD
DTSTART:20231029T030000
TZOFFSETFROM:+0300
TZOFFSETTO:+0200
TZNAME:EET
END:STANDARD
END:VTIMEZONE
END:VCALENDAR