BEGIN:VCALENDAR
VERSION:2.0
PRODID:-//wp-events-plugin.com//7.2.3.1//EN
TZID:Europe/Helsinki
X-WR-TIMEZONE:Europe/Helsinki
BEGIN:VEVENT
UID:396@mekansa.fi
DTSTART;TZID=Europe/Helsinki:20240327T180000
DTEND;TZID=Europe/Helsinki:20240327T193000
DTSTAMP:20240327T051623Z
URL:https://mekansa.fi/tapahtumat/me-kansa-studio-lahetys/
SUMMARY:Me Kansa Studio ke 27.3.2024 @ 18
DESCRIPTION:Me Kansa studiolähetys suorana ke 27.3.2024 klo 18.00 alkaen. 
 Maailman tilanne ja "Kysy Jukalta" osio.
ATTACH;FMTTYPE=image/jpeg:https://mekansa.fi/wp-content/uploads/2024/02/me
 -kansa-studio-tiistaina.jpg
CATEGORIES:verkossa
LOCATION:https://www.youtube.com/watch?v=2tvG089spbY
END:VEVENT
BEGIN:VTIMEZONE
TZID:Europe/Helsinki
X-LIC-LOCATION:Europe/Helsinki
BEGIN:STANDARD
DTSTART:20231029T030000
TZOFFSETFROM:+0300
TZOFFSETTO:+0200
TZNAME:EET
END:STANDARD
END:VTIMEZONE
END:VCALENDAR