BEGIN:VCALENDAR
VERSION:2.0
PRODID:-//wp-events-plugin.com//7.2.3.1//EN
TZID:Europe/Helsinki
X-WR-TIMEZONE:Europe/Helsinki
BEGIN:VEVENT
UID:418@mekansa.fi
DTSTART;TZID=Europe/Helsinki:20241106T180000
DTEND;TZID=Europe/Helsinki:20241106T193000
DTSTAMP:20241103T111223Z
URL:https://mekansa.fi/tapahtumat/me-kansa-studio-natsismiako-suomessa/
SUMMARY:Me Kansa Studio: Natsismiako Suomessa
DESCRIPTION:Me Kansa studiolähetys suorana ke 6.11.2024 klo 18.00 alkaen. 
 Aiheena: Natsismiako Suomessa. Tervetuloa mukaan! Voit kysyä #MK tunniste
 ella Jukalta kysymyksiä lähetyksen aikana.
ATTACH;FMTTYPE=image/jpeg:https://mekansa.fi/wp-content/uploads/2024/05/Me
 -Kansa-Studio-pohja-1080-x-500-px.jpg
CATEGORIES:verkossa
LOCATION:https://www.youtube.com/@mekansa
END:VEVENT
BEGIN:VTIMEZONE
TZID:Europe/Helsinki
X-LIC-LOCATION:Europe/Helsinki
BEGIN:STANDARD
DTSTART:20241027T030000
TZOFFSETFROM:+0300
TZOFFSETTO:+0200
TZNAME:EET
END:STANDARD
END:VTIMEZONE
END:VCALENDAR