BEGIN:VCALENDAR
VERSION:2.0
PRODID:-//wp-events-plugin.com//7.2.3.1//EN
TZID:Europe/Helsinki
X-WR-TIMEZONE:Europe/Helsinki
BEGIN:VEVENT
UID:417@mekansa.fi
DTSTART;TZID=Europe/Helsinki:20241023T180000
DTEND;TZID=Europe/Helsinki:20241023T193000
DTSTAMP:20241021T145238Z
URL:https://mekansa.fi/tapahtumat/me-kansa-studio-pankkikriisia-taloutta-j
 a-tilannekuvaa/
SUMMARY:Me Kansa Studio: Pankkikriisiä\, taloutta ja tilannekuvaa
DESCRIPTION:Me Kansa studiolähetys suorana ke 23.10.2024 klo 18.00 alkaen.
  Aiheena: Pankkikriisiä\, taloutta ja tilannekuvaa. Tervetuloa mukaan! Vo
 it kysyä #MK tunnisteella Jukalta kysymyksiä lähetyksen aikana.
ATTACH;FMTTYPE=image/jpeg:https://mekansa.fi/wp-content/uploads/2024/05/Me
 -Kansa-Studio-pohja-1080-x-500-px.jpg
CATEGORIES:verkossa
LOCATION:https://www.youtube.com/@mekansa
END:VEVENT
BEGIN:VTIMEZONE
TZID:Europe/Helsinki
X-LIC-LOCATION:Europe/Helsinki
BEGIN:DAYLIGHT
DTSTART:20240331T040000
TZOFFSETFROM:+0200
TZOFFSETTO:+0300
TZNAME:EEST
END:DAYLIGHT
END:VTIMEZONE
END:VCALENDAR