BEGIN:VCALENDAR
VERSION:2.0
PRODID:-//wp-events-plugin.com//7.2.3.1//EN
TZID:Europe/Helsinki
X-WR-TIMEZONE:Europe/Helsinki
BEGIN:VEVENT
UID:413@mekansa.fi
DTSTART;TZID=Europe/Helsinki:20240911T180000
DTEND;TZID=Europe/Helsinki:20240911T193000
DTSTAMP:20240910T164312Z
URL:https://mekansa.fi/tapahtumat/me-kansa-studio-rytinaa-tiedossa/
SUMMARY:Me Kansa Studio: Rytinää tiedossa sekä syytekirjelmiä esitteill
 e
DESCRIPTION:Me Kansa studiolähetys suorana ke 11.9.2024 klo 18.00 alkaen. 
 Tervetuloa mukaan! Lähetyksessä voi laittaa kysymyksiä #MK etutunnistee
 lla. 
ATTACH;FMTTYPE=image/jpeg:https://mekansa.fi/wp-content/uploads/2024/05/Me
 -Kansa-Studio-pohja-1080-x-500-px.jpg
CATEGORIES:verkossa
LOCATION:https://www.youtube.com/@mekansa
END:VEVENT
BEGIN:VTIMEZONE
TZID:Europe/Helsinki
X-LIC-LOCATION:Europe/Helsinki
BEGIN:DAYLIGHT
DTSTART:20240331T040000
TZOFFSETFROM:+0200
TZOFFSETTO:+0300
TZNAME:EEST
END:DAYLIGHT
END:VTIMEZONE
END:VCALENDAR