BEGIN:VCALENDAR
VERSION:2.0
PRODID:-//wp-events-plugin.com//7.2.3.1//EN
TZID:Europe/Helsinki
X-WR-TIMEZONE:Europe/Helsinki
BEGIN:VEVENT
UID:364@mekansa.fi
DTSTART;TZID=Europe/Helsinki:20230329T180000
DTEND;TZID=Europe/Helsinki:20230329T193000
DTSTAMP:20230329T145514Z
URL:https://mekansa.fi/tapahtumat/me-kansa-studio/
SUMMARY:Me Kansa Studio
DESCRIPTION:Me Kansa studiolähetys suorana 29.3.2023 klo 18 - 19:30.\nMe K
 ansa Studio\n.\nHaastateltava: Jukka Davidsson\n\nOnko sinulla kysymys Juk
 alle? Lähetä se meille ennakkoon tai kysy live-lähetyksessä. https://m
 ekansa.fi/kysy-jukalta/\nStriimit:\n\n 	Linkki Youtube lähetykseen: https
 ://www.youtube.com/watch?v=mohpB9GHUm8\n 	Linkki Rumble lähetykseen: Klik
 kaa tästä &gt\;&gt\;\n\nTervetuloa mukaan livelähetykseen!
ATTACH;FMTTYPE=image/jpeg:https://mekansa.fi/wp-content/uploads/2023/03/ku
 va-jd.jpg
CATEGORIES:verkossa
LOCATION:https://www.youtube.com/watch?v=mohpB9GHUm8&ab_channel=MeKansa
END:VEVENT
BEGIN:VTIMEZONE
TZID:Europe/Helsinki
X-LIC-LOCATION:Europe/Helsinki
BEGIN:DAYLIGHT
DTSTART:20230326T040000
TZOFFSETFROM:+0200
TZOFFSETTO:+0300
TZNAME:EEST
END:DAYLIGHT
END:VTIMEZONE
END:VCALENDAR