BEGIN:VCALENDAR
VERSION:2.0
PRODID:-//wp-events-plugin.com//7.2.3.1//EN
TZID:Europe/Helsinki
X-WR-TIMEZONE:Europe/Helsinki
BEGIN:VEVENT
UID:279@mekansa.fi
DTSTART;TZID=Europe/Helsinki:20221029T130000
DTEND;TZID=Europe/Helsinki:20221029T160000
DTSTAMP:20221024T195823Z
URL:https://mekansa.fi/tapahtumat/me-kansa-tampere-3/
SUMMARY:ME KANSA Tampere
DESCRIPTION:Lämpimästi tervetuloa mukaan\n\nME KANSA Tampereen tapaamisee
 n 29.10 klo 13:00 - 16:00\, Haiharankatu 15 G 61\, T:re. Bussi nro 10 pä
 ätepysäkin lähellä.
ATTACH;FMTTYPE=image/jpeg:https://mekansa.fi/wp-content/uploads/2022/10/mk
 -uusin.jpg
CATEGORIES:Tampere/Pirkanmaa
LOCATION:Tampere ME KANSA\, Haiharankatu 15 G 61\, Tampere\, Suomi
X-APPLE-STRUCTURED-LOCATION;VALUE=URI;X-ADDRESS=Haiharankatu 15 G 61\, Tamp
 ere\, Suomi;X-APPLE-RADIUS=100;X-TITLE=Tampere ME KANSA:geo:0,0
END:VEVENT
BEGIN:VTIMEZONE
TZID:Europe/Helsinki
X-LIC-LOCATION:Europe/Helsinki
BEGIN:DAYLIGHT
DTSTART:20220327T040000
TZOFFSETFROM:+0200
TZOFFSETTO:+0300
TZNAME:EEST
END:DAYLIGHT
END:VTIMEZONE
END:VCALENDAR