BEGIN:VCALENDAR
VERSION:2.0
PRODID:-//wp-events-plugin.com//7.2.3.1//EN
TZID:Europe/Helsinki
X-WR-TIMEZONE:Europe/Helsinki
BEGIN:VEVENT
UID:219@mekansa.fi
DTSTART;TZID=Europe/Helsinki:20220702T130000
DTEND;TZID=Europe/Helsinki:20220702T160000
DTSTAMP:20220627T124907Z
URL:https://mekansa.fi/tapahtumat/me-kansa-tampere-pirkanmaa-2/
SUMMARY:ME KANSA Tampere/Pirkanmaa
DESCRIPTION:Hei ryhmäläiset kokoonnumme 2.7 kooveen tilassa klo13 sarvija
 akonkatu 32 ja ovimaksu 3e ja toivotaan kafeepakketteja nyytärinä. Käyd
 ään läpi tärkeitä asioita 
ATTACH;FMTTYPE=image/jpeg:https://mekansa.fi/wp-content/uploads/2022/06/me
 kansalogo-1.jpg
CATEGORIES:Tampere/Pirkanmaa
LOCATION:Tampere\, Sarvijaakonkatu 32\, Tampere\, Suomi
X-APPLE-STRUCTURED-LOCATION;VALUE=URI;X-ADDRESS=Sarvijaakonkatu 32\, Tamper
 e\, Suomi;X-APPLE-RADIUS=100;X-TITLE=Tampere:geo:0,0
END:VEVENT
BEGIN:VTIMEZONE
TZID:Europe/Helsinki
X-LIC-LOCATION:Europe/Helsinki
BEGIN:DAYLIGHT
DTSTART:20220327T040000
TZOFFSETFROM:+0200
TZOFFSETTO:+0300
TZNAME:EEST
END:DAYLIGHT
END:VTIMEZONE
END:VCALENDAR