BEGIN:VCALENDAR
VERSION:2.0
PRODID:-//wp-events-plugin.com//7.2.3.1//EN
TZID:Europe/Helsinki
X-WR-TIMEZONE:Europe/Helsinki
BEGIN:VEVENT
UID:365@mekansa.fi
DTSTART;TZID=Europe/Helsinki:20230416T140000
DTEND;TZID=Europe/Helsinki:20230416T170000
DTSTAMP:20230411T174019Z
URL:https://mekansa.fi/tapahtumat/me-kansa-tampereen-seutu-6/
SUMMARY:ME KANSA - Tampereen seutu
DESCRIPTION:Tampereen seudun ME KANSA - tapaaminen\n\ntutussa paikassa\, ov
 iraha 3 euroa.\n\nLämpimästi tervetuloa mukaan.
ATTACH;FMTTYPE=image/jpeg:https://mekansa.fi/wp-content/uploads/2023/04/ME
 KANSAlogouusi-2.png
LOCATION:Olotila MOYO\, Tuomiokirkonkatu 1\, Tampere\, Suomi
X-APPLE-STRUCTURED-LOCATION;VALUE=URI;X-ADDRESS=Tuomiokirkonkatu 1\, Tamper
 e\, Suomi;X-APPLE-RADIUS=100;X-TITLE=Olotila MOYO:geo:0,0
END:VEVENT
BEGIN:VTIMEZONE
TZID:Europe/Helsinki
X-LIC-LOCATION:Europe/Helsinki
BEGIN:DAYLIGHT
DTSTART:20230326T040000
TZOFFSETFROM:+0200
TZOFFSETTO:+0300
TZNAME:EEST
END:DAYLIGHT
END:VTIMEZONE
END:VCALENDAR