BEGIN:VCALENDAR
VERSION:2.0
PRODID:-//wp-events-plugin.com//7.2.3.1//EN
TZID:Europe/Helsinki
X-WR-TIMEZONE:Europe/Helsinki
BEGIN:VEVENT
UID:254@mekansa.fi
DTSTART;TZID=Europe/Helsinki:20220904T140000
DTEND;TZID=Europe/Helsinki:20220904T170000
DTSTAMP:20220830T162332Z
URL:https://mekansa.fi/tapahtumat/me-kansa-tampereen-seutu/
SUMMARY:ME KANSA Tampereen seutu
DESCRIPTION:Me Kansa Tampere/Pirkanmaa: tapaaminen sunnuntaina 4.9 klo 14-1
 7 Koo Vee Ry:n tiloissa Sarvijaakonkatu 32 Tampere. Tervetuloa! Eija Lahti
 nen\n\nTilavuokran kattamiseen 3 euron ovimaksu.\n\n&nbsp\;\n\n&nbsp\;\n\n
 &nbsp\;\n\n&nbsp\;\n\n&nbsp\;\n\n&nbsp\;
ATTACH;FMTTYPE=image/jpeg:https://mekansa.fi/wp-content/uploads/2022/08/me
 kansalogo.jpg
CATEGORIES:Tampere/Pirkanmaa
LOCATION:KooVee\, Sarvijaakonkatu 32\, Tampere\, Suomi
X-APPLE-STRUCTURED-LOCATION;VALUE=URI;X-ADDRESS=Sarvijaakonkatu 32\, Tamper
 e\, Suomi;X-APPLE-RADIUS=100;X-TITLE=KooVee:geo:0,0
END:VEVENT
BEGIN:VTIMEZONE
TZID:Europe/Helsinki
X-LIC-LOCATION:Europe/Helsinki
BEGIN:DAYLIGHT
DTSTART:20220327T040000
TZOFFSETFROM:+0200
TZOFFSETTO:+0300
TZNAME:EEST
END:DAYLIGHT
END:VTIMEZONE
END:VCALENDAR