BEGIN:VCALENDAR
VERSION:2.0
PRODID:-//wp-events-plugin.com//7.2.3.1//EN
TZID:Europe/Helsinki
X-WR-TIMEZONE:Europe/Helsinki
BEGIN:VEVENT
UID:416@mekansa.fi
DTSTART;TZID=Europe/Helsinki:20241013T120000
DTEND;TZID=Europe/Helsinki:20241013T150000
DTSTAMP:20241006T134205Z
URL:https://mekansa.fi/tapahtumat/me-kansa-tapaaminen-13-10-2024/
SUMMARY:ME KANSA tapaaminen 13.10.2024
DESCRIPTION:Me Kansa tapaaminen 13.10.2024 klo 12 alkaen kahvilassa Iisalme
 ssa sekä verkon välityksellä mistä vain.
ATTACH;FMTTYPE=image/jpeg:https://mekansa.fi/wp-content/uploads/2024/10/mk
 -uusin.jpg
CATEGORIES:Iisalmi,verkossa
LOCATION:Kahvila-Ravintola Iltalypsy\, Kilpivirrantie 3\, Iisalmi\, Suomi
X-APPLE-STRUCTURED-LOCATION;VALUE=URI;X-ADDRESS=Kilpivirrantie 3\, Iisalmi\
 , Suomi;X-APPLE-RADIUS=100;X-TITLE=Kahvila-Ravintola Iltalypsy:geo:0,0
END:VEVENT
BEGIN:VTIMEZONE
TZID:Europe/Helsinki
X-LIC-LOCATION:Europe/Helsinki
BEGIN:DAYLIGHT
DTSTART:20240331T040000
TZOFFSETFROM:+0200
TZOFFSETTO:+0300
TZNAME:EEST
END:DAYLIGHT
END:VTIMEZONE
END:VCALENDAR