BEGIN:VCALENDAR
VERSION:2.0
PRODID:-//wp-events-plugin.com//7.2.3.1//EN
TZID:Europe/Helsinki
X-WR-TIMEZONE:Europe/Helsinki
BEGIN:VEVENT
UID:419@mekansa.fi
DTSTART;TZID=Europe/Helsinki:20241124T120000
DTEND;TZID=Europe/Helsinki:20241124T150000
DTSTAMP:20241112T142447Z
URL:https://mekansa.fi/tapahtumat/me-kansa-tapaaminen-24-11-2024/
SUMMARY:ME KANSA tapaaminen 24.11.2024
DESCRIPTION:Tapaaminen tutussa paikassa su. 24.11\n\nJukka mukana etäyhtey
 dellä. Tervetuloa paikan päälle\,\n\ntai linjoja pitkin tästä linkist
 ä&gt\;&gt\;&gt\;\n\nTule mukaan ja tuo kaverit myös.
ATTACH;FMTTYPE=image/jpeg:https://mekansa.fi/wp-content/uploads/2024/11/ME
 KANSAlogoilmoituksiin.png
CATEGORIES:Iisalmi,verkossa
LOCATION:Kahvila-Ravintola Iltalypsy\, Kilpivirrantie 3\, Iisalmi\, Suomi
X-APPLE-STRUCTURED-LOCATION;VALUE=URI;X-ADDRESS=Kilpivirrantie 3\, Iisalmi\
 , Suomi;X-APPLE-RADIUS=100;X-TITLE=Kahvila-Ravintola Iltalypsy:geo:0,0
END:VEVENT
BEGIN:VTIMEZONE
TZID:Europe/Helsinki
X-LIC-LOCATION:Europe/Helsinki
BEGIN:STANDARD
DTSTART:20241027T030000
TZOFFSETFROM:+0300
TZOFFSETTO:+0200
TZNAME:EET
END:STANDARD
END:VTIMEZONE
END:VCALENDAR