BEGIN:VCALENDAR
VERSION:2.0
PRODID:-//wp-events-plugin.com//7.2.3.1//EN
TZID:Europe/Helsinki
X-WR-TIMEZONE:Europe/Helsinki
BEGIN:VEVENT
UID:398@mekansa.fi
DTSTART;TZID=Europe/Helsinki:20240428T120000
DTEND;TZID=Europe/Helsinki:20240428T153000
DTSTAMP:20240412T140812Z
URL:https://mekansa.fi/tapahtumat/me-kansa-tapaaminen-28-4-2024/
SUMMARY:ME KANSA tapaaminen 28.4.2024
DESCRIPTION:Jo lie aika tavata tutussa paikassa pitkän talven jälkeen.\n\
 nTervetuloa läheltä ja kaukaa\, ota kaveri mukaan.\n\nJukka osallistuu l
 injoja pitkin\, ja niin voit sinäkin\, jos\n\net paikalle pääse tulemaa
 n\n\nhttps://meet.jit.si/MEKANSA28.04.2024
ATTACH;FMTTYPE=image/jpeg:https://mekansa.fi/wp-content/uploads/2024/04/ME
 KANSAlogouusi-2.png
LOCATION:Kahvila-Ravintola Iltalypsy\, Kilpivirrantie 3\, Iisalmi\, Suomi
X-APPLE-STRUCTURED-LOCATION;VALUE=URI;X-ADDRESS=Kilpivirrantie 3\, Iisalmi\
 , Suomi;X-APPLE-RADIUS=100;X-TITLE=Kahvila-Ravintola Iltalypsy:geo:0,0
END:VEVENT
BEGIN:VTIMEZONE
TZID:Europe/Helsinki
X-LIC-LOCATION:Europe/Helsinki
BEGIN:DAYLIGHT
DTSTART:20240331T040000
TZOFFSETFROM:+0200
TZOFFSETTO:+0300
TZNAME:EEST
END:DAYLIGHT
END:VTIMEZONE
END:VCALENDAR