BEGIN:VCALENDAR
VERSION:2.0
PRODID:-//wp-events-plugin.com//7.2.3.1//EN
TZID:Europe/Helsinki
X-WR-TIMEZONE:Europe/Helsinki
BEGIN:VEVENT
UID:24@mekansa.fi
DTSTART;TZID=Europe/Helsinki:20211127T150000
DTEND;TZID=Europe/Helsinki:20211127T180000
DTSTAMP:20211122T164405Z
URL:https://mekansa.fi/tapahtumat/me-kansa-turku-tapaaminen/
SUMMARY:Me Kansa Turku tapaaminen
DESCRIPTION:Jukka Davidsson Ravintola Uljaassa Turussa la 27.11.21 klo 15:0
 0\, 5€ käteisellä.\nIlmoittautuminen\nIlmoittautuminen mekansa.turku@p
 rotonmail.com.\n\nHinta: 5€/hlö käteisellä\n\n&nbsp\;
ATTACH;FMTTYPE=image/jpeg:https://mekansa.fi/wp-content/uploads/2021/11/Ke
 -Kansa-tunnus-RGB-50.jpg
CATEGORIES:Turku
LOCATION:Ravintola Uljas\, Köydenpunojankatu 14\, Turku\, Suomi
X-APPLE-STRUCTURED-LOCATION;VALUE=URI;X-ADDRESS=Köydenpunojankatu 14\, Tur
 ku\, Suomi;X-APPLE-RADIUS=100;X-TITLE=Ravintola Uljas:geo:0,0
END:VEVENT
BEGIN:VTIMEZONE
TZID:Europe/Helsinki
X-LIC-LOCATION:Europe/Helsinki
BEGIN:STANDARD
DTSTART:20211031T030000
TZOFFSETFROM:+0300
TZOFFSETTO:+0200
TZNAME:EET
END:STANDARD
END:VTIMEZONE
END:VCALENDAR