BEGIN:VCALENDAR
VERSION:2.0
PRODID:-//wp-events-plugin.com//7.2.3.1//EN
TZID:Europe/Helsinki
X-WR-TIMEZONE:Europe/Helsinki
BEGIN:VEVENT
UID:447@mekansa.fi
DTSTART;TZID=Europe/Helsinki:20250524T120000
DTEND;TZID=Europe/Helsinki:20250524T150000
DTSTAMP:20250523T185743Z
URL:https://mekansa.fi/tapahtumat/me-kansa-uusimaa-14/
SUMMARY:Me Kansa Uusimaa
DESCRIPTION:Me Kansa Uusimaa tapahtuma Klaukkalassa Nurmijärvellä 24.5.20
 25. Puhujana mm. Jukka Davidsson. 
ATTACH;FMTTYPE=image/jpeg:https://mekansa.fi/wp-content/uploads/2025/04/kl
 aukkala-mk-uusimaa.jpg
CATEGORIES:Uusimaa
LOCATION:Seurantalo Roinela\, Seurantie 2\, Klaukkala\, Nurmijärvi\, Suomi
X-APPLE-STRUCTURED-LOCATION;VALUE=URI;X-ADDRESS=Seurantie 2\, Klaukkala\, N
 urmijärvi\, Suomi;X-APPLE-RADIUS=100;X-TITLE=Seurantalo Roinela:geo:0,0
END:VEVENT
BEGIN:VTIMEZONE
TZID:Europe/Helsinki
X-LIC-LOCATION:Europe/Helsinki
BEGIN:DAYLIGHT
DTSTART:20250330T040000
TZOFFSETFROM:+0200
TZOFFSETTO:+0300
TZNAME:EEST
END:DAYLIGHT
END:VTIMEZONE
END:VCALENDAR