BEGIN:VCALENDAR
VERSION:2.0
PRODID:-//wp-events-plugin.com//7.2.3.1//EN
TZID:Europe/Helsinki
X-WR-TIMEZONE:Europe/Helsinki
BEGIN:VEVENT
UID:88@mekansa.fi
DTSTART;TZID=Europe/Helsinki:20220206T150000
DTEND;TZID=Europe/Helsinki:20220206T170000
DTSTAMP:20220107T093718Z
URL:https://mekansa.fi/tapahtumat/me-kansa-uusimaa-2022-02-06/
SUMMARY:Me Kansa Uusimaa
DESCRIPTION:Me Kansa Uusimaa tapaa Vantaalla joka toinen sunnuntai klo 15 a
 lkaen. Tervetuloa mukaan kaikki kiinnostuneet.
ATTACH;FMTTYPE=image/jpeg:https://mekansa.fi/wp-content/uploads/2022/01/vi
 hrea-vuohi.jpeg
CATEGORIES:Uusimaa
LOCATION:Vihreä Vuohi kahvila\, Iskoskuja 3 A 1\, Vantaa\, Suomi
X-APPLE-STRUCTURED-LOCATION;VALUE=URI;X-ADDRESS=Iskoskuja 3 A 1\, Vantaa\, 
 Suomi;X-APPLE-RADIUS=100;X-TITLE=Vihreä Vuohi kahvila:geo:0,0
END:VEVENT
BEGIN:VTIMEZONE
TZID:Europe/Helsinki
X-LIC-LOCATION:Europe/Helsinki
BEGIN:STANDARD
DTSTART:20211031T030000
TZOFFSETFROM:+0300
TZOFFSETTO:+0200
TZNAME:EET
END:STANDARD
END:VTIMEZONE
END:VCALENDAR