BEGIN:VCALENDAR
VERSION:2.0
PRODID:-//wp-events-plugin.com//7.2.3.1//EN
TZID:Europe/Helsinki
X-WR-TIMEZONE:Europe/Helsinki
BEGIN:VEVENT
UID:262@mekansa.fi
DTSTART;TZID=Europe/Helsinki:20221004T173000
DTEND;TZID=Europe/Helsinki:20221004T193000
DTSTAMP:20220929T054336Z
URL:https://mekansa.fi/tapahtumat/me-kansa-uusimaa-6/
SUMMARY:Me Kansa Uusimaa tapaaminen
DESCRIPTION:Me Kansa Uusimaa tapaaminen\n\nAika: Tiistaina 4.10 klo 17:30 -
  19.30\n\nPaikka: Viinikahvila Pausa\n\nOsoite: Pitäjänmäentie 19\, 003
 70 Helsinki\n\nLisätietoja: katipenttala62@gmail.com\n\nTapaamispaikan ne
 ttisivut: https://pausa.fi\n\nTervetuloa mukaan kaikki kiinnostuneet.
ATTACH;FMTTYPE=image/jpeg:https://mekansa.fi/wp-content/uploads/2022/09/Ko
 pio-Me-Kansa-tapahtumat-14.jpg
CATEGORIES:Helsinki,Uusimaa
LOCATION:Viinikahvila Pausa\, Pitäjänmäentie 19\, Helsinki\, 00370\, Uus
 imaa \, Suomi
X-APPLE-STRUCTURED-LOCATION;VALUE=URI;X-ADDRESS=Pitäjänmäentie 19\, Hels
 inki\, 00370\, Uusimaa \, Suomi;X-APPLE-RADIUS=100;X-TITLE=Viinikahvila Pa
 usa:geo:0,0
END:VEVENT
BEGIN:VTIMEZONE
TZID:Europe/Helsinki
X-LIC-LOCATION:Europe/Helsinki
BEGIN:DAYLIGHT
DTSTART:20220327T040000
TZOFFSETFROM:+0200
TZOFFSETTO:+0300
TZNAME:EEST
END:DAYLIGHT
END:VTIMEZONE
END:VCALENDAR