BEGIN:VCALENDAR
VERSION:2.0
PRODID:-//wp-events-plugin.com//7.2.3.1//EN
TZID:Europe/Helsinki
X-WR-TIMEZONE:Europe/Helsinki
BEGIN:VEVENT
UID:9@mekansa.fi
DTSTART;TZID=Europe/Helsinki:20211107T140000
DTEND;TZID=Europe/Helsinki:20211107T160000
DTSTAMP:20211107T063204Z
URL:https://mekansa.fi/tapahtumat/me-kansa-uusimaa-tapaaminen/
SUMMARY:Me Kansa - Uusimaa tapaaminen
DESCRIPTION:Me Kansa Uusimaa tapaaminen kauppakeskus Myyrmannissa su 7.11.2
 021
ATTACH;FMTTYPE=image/jpeg:https://mekansa.fi/wp-content/uploads/2021/11/ka
 hvila.jpg
CATEGORIES:Uusimaa
LOCATION:Myyrmanni\, Iskoskuja 3\, Vantaa\, Suomi
X-APPLE-STRUCTURED-LOCATION;VALUE=URI;X-ADDRESS=Iskoskuja 3\, Vantaa\, Suom
 i;X-APPLE-RADIUS=100;X-TITLE=Myyrmanni:geo:0,0
END:VEVENT
BEGIN:VTIMEZONE
TZID:Europe/Helsinki
X-LIC-LOCATION:Europe/Helsinki
BEGIN:STANDARD
DTSTART:20211031T030000
TZOFFSETFROM:+0300
TZOFFSETTO:+0200
TZNAME:EET
END:STANDARD
END:VTIMEZONE
END:VCALENDAR