BEGIN:VCALENDAR
VERSION:2.0
PRODID:-//wp-events-plugin.com//7.2.3.1//EN
TZID:Europe/Helsinki
X-WR-TIMEZONE:Europe/Helsinki
BEGIN:VEVENT
UID:5@mekansa.fi
DTSTART;TZID=Europe/Helsinki:20211009T110000
DTEND;TZID=Europe/Helsinki:20211009T200000
DTSTAMP:20210913T175124Z
URL:https://mekansa.fi/tapahtumat/mekansa-nivala/
SUMMARY:MeKansa Nivala
DESCRIPTION:Lämpimästi tervetuloa Nivalaan 5.10.2021.  Ohjelmaa klo 11-20
 .
ATTACH;FMTTYPE=image/jpeg:https://mekansa.fi/wp-content/uploads/2021/09/sy
 ksy.jpeg
CATEGORIES:Nivala
LOCATION:Nivala (tarkempi os. myöhemmin)\, Kalliontie\, Nivala\, Pohjois-P
 ohjanmaa\, Suomi
X-APPLE-STRUCTURED-LOCATION;VALUE=URI;X-ADDRESS=Kalliontie\, Nivala\, Pohjo
 is-Pohjanmaa\, Suomi;X-APPLE-RADIUS=100;X-TITLE=Nivala (tarkempi os. myöh
 emmin):geo:0,0
END:VEVENT
BEGIN:VTIMEZONE
TZID:Europe/Helsinki
X-LIC-LOCATION:Europe/Helsinki
BEGIN:DAYLIGHT
DTSTART:20210328T040000
TZOFFSETFROM:+0200
TZOFFSETTO:+0300
TZNAME:EEST
END:DAYLIGHT
END:VTIMEZONE
END:VCALENDAR