BEGIN:VCALENDAR
VERSION:2.0
PRODID:-//wp-events-plugin.com//7.2.3.1//EN
TZID:Europe/Helsinki
X-WR-TIMEZONE:Europe/Helsinki
BEGIN:VEVENT
UID:4@mekansa.fi
DTSTART;TZID=Europe/Helsinki:20210905T130000
DTEND;TZID=Europe/Helsinki:20210905T190000
DTSTAMP:20210822T123328Z
URL:https://mekansa.fi/tapahtumat/mekansa-oulu/
SUMMARY:MeKansa Oulu
DESCRIPTION:Lämpimästi tervetuloa Ouluun 5.9.2021.  Ohjelmaa klo 13-19.
ATTACH;FMTTYPE=image/jpeg:https://mekansa.fi/wp-content/uploads/2021/08/ou
 lu-85462_640.jpeg
CATEGORIES:Oulu
LOCATION:Oulu yleinen (varmista tarkempi osoite)\, Aleksanterinkatu\, Oulu\
 , Suomi
X-APPLE-STRUCTURED-LOCATION;VALUE=URI;X-ADDRESS=Aleksanterinkatu\, Oulu\, S
 uomi;X-APPLE-RADIUS=100;X-TITLE=Oulu yleinen (varmista tarkempi osoite):ge
 o:0,0
END:VEVENT
BEGIN:VTIMEZONE
TZID:Europe/Helsinki
X-LIC-LOCATION:Europe/Helsinki
BEGIN:DAYLIGHT
DTSTART:20210328T040000
TZOFFSETFROM:+0200
TZOFFSETTO:+0300
TZNAME:EEST
END:DAYLIGHT
END:VTIMEZONE
END:VCALENDAR