BEGIN:VCALENDAR
VERSION:2.0
PRODID:-//wp-events-plugin.com//7.2.3.1//EN
TZID:Europe/Helsinki
X-WR-TIMEZONE:Europe/Helsinki
BEGIN:VEVENT
UID:404@mekansa.fi
DTSTART;TZID=Europe/Helsinki:20240424T180000
DTEND;TZID=Europe/Helsinki:20240424T193000
DTSTAMP:20240423T182521Z
URL:https://mekansa.fi/tapahtumat/pelottavia-uutisia-lahi-idasta/
SUMMARY:Pelottavia uutisia Lähi-Idästä
DESCRIPTION:Me Kansa Studio: Pelottavia uutisia Lähi-Idästä 24.4.2024 kl
 o 18 alkaen suora ERIKOISLÄHETYS. Osallistu lähetykseen lähettämällä
  kysymyksesi etukätee tai chattaa.
ATTACH;FMTTYPE=image/jpeg:https://mekansa.fi/wp-content/uploads/2024/04/me
 kansa-studio.jpeg
LOCATION:https://www.youtube.com/watch?v=gjMVlGBX3PI
END:VEVENT
BEGIN:VTIMEZONE
TZID:Europe/Helsinki
X-LIC-LOCATION:Europe/Helsinki
BEGIN:DAYLIGHT
DTSTART:20240331T040000
TZOFFSETFROM:+0200
TZOFFSETTO:+0300
TZNAME:EEST
END:DAYLIGHT
END:VTIMEZONE
END:VCALENDAR