BEGIN:VCALENDAR
VERSION:2.0
PRODID:-//wp-events-plugin.com//7.2.3.1//EN
TZID:Europe/Helsinki
X-WR-TIMEZONE:Europe/Helsinki
BEGIN:VEVENT
UID:405@mekansa.fi
DTSTART;TZID=Europe/Helsinki:20240515T180000
DTEND;TZID=Europe/Helsinki:20240515T193000
DTSTAMP:20240429T171915Z
URL:https://mekansa.fi/tapahtumat/studio-harri-kiiskinen/
SUMMARY:Studio: Keskusteluvieraana Harhaanjohdetut- kirjan kirjoittaja Harr
 i Kiiskinen
DESCRIPTION:Me Kansa Studio 15.5. klo 18 vieraana Harhaajohdetut kirjan kir
 joittaja Harri Kiiskinen. Youtubessa: https://www.youtube.com/@mekansa
ATTACH;FMTTYPE=image/jpeg:https://mekansa.fi/wp-content/uploads/2024/04/ki
 iskinen-studio.jpeg
CATEGORIES:verkossa
LOCATION:https://www.youtube.com/@mekansa
END:VEVENT
BEGIN:VTIMEZONE
TZID:Europe/Helsinki
X-LIC-LOCATION:Europe/Helsinki
BEGIN:DAYLIGHT
DTSTART:20240331T040000
TZOFFSETFROM:+0200
TZOFFSETTO:+0300
TZNAME:EEST
END:DAYLIGHT
END:VTIMEZONE
END:VCALENDAR