BEGIN:VCALENDAR
VERSION:2.0
PRODID:-//wp-events-plugin.com//7.2.3.1//EN
TZID:Europe/Helsinki
X-WR-TIMEZONE:Europe/Helsinki
BEGIN:VEVENT
UID:92@mekansa.fi
DTSTART;TZID=Europe/Helsinki:20220126T190000
DTEND;TZID=Europe/Helsinki:20220126T200000
DTSTAMP:20220204T102740Z
URL:https://mekansa.fi/tapahtumat/tapahtumailmoituksen-tekeminen/
SUMMARY:Tapahtumailmoituksen tekeminen
DESCRIPTION:Infosessio: Tapahtumailmoituksen tekeminen. Kuinka tehdä ja ju
 lkaista tapahtumailmoitus nettisivuille sekä sen markkinointi somekanavis
 sa. Infosessio tapahtuu verkossa.
ATTACH;FMTTYPE=image/jpeg:https://mekansa.fi/wp-content/uploads/2022/01/ta
 pahtumailmoituksen-teko.jpg
CATEGORIES:verkossa
END:VEVENT
BEGIN:VTIMEZONE
TZID:Europe/Helsinki
X-LIC-LOCATION:Europe/Helsinki
BEGIN:STANDARD
DTSTART:20211031T030000
TZOFFSETFROM:+0300
TZOFFSETTO:+0200
TZNAME:EET
END:STANDARD
END:VTIMEZONE
END:VCALENDAR