BEGIN:VCALENDAR
VERSION:2.0
PRODID:-//wp-events-plugin.com//7.2.3.1//EN
TZID:Europe/Helsinki
X-WR-TIMEZONE:Europe/Helsinki
BEGIN:VEVENT
UID:140@mekansa.fi
DTSTART;TZID=Europe/Helsinki:20220302T180000
DTEND;TZID=Europe/Helsinki:20220302T200000
DTSTAMP:20220228T174130Z
URL:https://mekansa.fi/tapahtumat/ukraina-ja-tilanteemme/
SUMMARY:Ukraina ja tilanteemme
DESCRIPTION:Suora lähetys 2.3.2022 klo 18 lähtien.  Me Kansa -kansanliikk
 een Jukka Davidsson on puhumassa ATOMIstudiossa Ukrainan sekä Suomen tila
 nteesta. Tule linjoille.
ATTACH;FMTTYPE=image/jpeg:https://mekansa.fi/wp-content/uploads/2022/02/ph
 oto_2022-02-28_19-29-08.jpg
CATEGORIES:verkossa
LOCATION:https://youtu.be/cgHcwd7Pr6s
END:VEVENT
BEGIN:VTIMEZONE
TZID:Europe/Helsinki
X-LIC-LOCATION:Europe/Helsinki
BEGIN:STANDARD
DTSTART:20211031T030000
TZOFFSETFROM:+0300
TZOFFSETTO:+0200
TZNAME:EET
END:STANDARD
END:VTIMEZONE
END:VCALENDAR